BEGIN:VCALENDAR
VERSION:2.0
PRODID:-//Reitverein Frauenfeld und Umgebung - ECPv6.15.18//NONSGML v1.0//EN
CALSCALE:GREGORIAN
METHOD:PUBLISH
X-ORIGINAL-URL:https://rvfu.ch
X-WR-CALDESC:Veranstaltungen für Reitverein Frauenfeld und Umgebung
REFRESH-INTERVAL;VALUE=DURATION:PT1H
X-Robots-Tag:noindex
X-PUBLISHED-TTL:PT1H
BEGIN:VTIMEZONE
TZID:Europe/Zurich
BEGIN:DAYLIGHT
TZOFFSETFROM:+0100
TZOFFSETTO:+0200
TZNAME:CEST
DTSTART:20250330T010000
END:DAYLIGHT
BEGIN:STANDARD
TZOFFSETFROM:+0200
TZOFFSETTO:+0100
TZNAME:CET
DTSTART:20251026T010000
END:STANDARD
BEGIN:DAYLIGHT
TZOFFSETFROM:+0100
TZOFFSETTO:+0200
TZNAME:CEST
DTSTART:20260329T010000
END:DAYLIGHT
BEGIN:STANDARD
TZOFFSETFROM:+0200
TZOFFSETTO:+0100
TZNAME:CET
DTSTART:20261025T010000
END:STANDARD
BEGIN:DAYLIGHT
TZOFFSETFROM:+0100
TZOFFSETTO:+0200
TZNAME:CEST
DTSTART:20270328T010000
END:DAYLIGHT
BEGIN:STANDARD
TZOFFSETFROM:+0200
TZOFFSETTO:+0100
TZNAME:CET
DTSTART:20271031T010000
END:STANDARD
BEGIN:DAYLIGHT
TZOFFSETFROM:+0100
TZOFFSETTO:+0200
TZNAME:CEST
DTSTART:20280326T010000
END:DAYLIGHT
BEGIN:STANDARD
TZOFFSETFROM:+0200
TZOFFSETTO:+0100
TZNAME:CET
DTSTART:20281029T010000
END:STANDARD
END:VTIMEZONE
BEGIN:VEVENT
DTSTART;VALUE=DATE:20261129
DTEND;VALUE=DATE:20261130
DTSTAMP:20260419T193536
CREATED:20260416T193533Z
LAST-MODIFIED:20260416T193533Z
UID:10000026-1795910400-1795996799@rvfu.ch
SUMMARY:Adventsritt 🎄⭐
DESCRIPTION:Ausschreibung folgt
URL:https://rvfu.ch/event/adventsritt-%f0%9f%8e%84%e2%ad%90/
LOCATION:noch offen
END:VEVENT
BEGIN:VEVENT
DTSTART;VALUE=DATE:20270103
DTEND;VALUE=DATE:20270104
DTSTAMP:20260419T193536
CREATED:20260416T193242Z
LAST-MODIFIED:20260416T193242Z
UID:10000024-1798934400-1799020799@rvfu.ch
SUMMARY:Fondueessen 🫕
DESCRIPTION:Ausschreibung folgt
URL:https://rvfu.ch/event/fondueessen-%f0%9f%ab%95/
LOCATION:noch offen
END:VEVENT
END:VCALENDAR