BEGIN:VCALENDAR
VERSION:2.0
PRODID:-//Reitverein Frauenfeld und Umgebung - ECPv6.15.18//NONSGML v1.0//EN
CALSCALE:GREGORIAN
METHOD:PUBLISH
X-ORIGINAL-URL:https://rvfu.ch
X-WR-CALDESC:Veranstaltungen für Reitverein Frauenfeld und Umgebung
REFRESH-INTERVAL;VALUE=DURATION:PT1H
X-Robots-Tag:noindex
X-PUBLISHED-TTL:PT1H
BEGIN:VTIMEZONE
TZID:Europe/Zurich
BEGIN:DAYLIGHT
TZOFFSETFROM:+0100
TZOFFSETTO:+0200
TZNAME:CEST
DTSTART:20250330T010000
END:DAYLIGHT
BEGIN:STANDARD
TZOFFSETFROM:+0200
TZOFFSETTO:+0100
TZNAME:CET
DTSTART:20251026T010000
END:STANDARD
BEGIN:DAYLIGHT
TZOFFSETFROM:+0100
TZOFFSETTO:+0200
TZNAME:CEST
DTSTART:20260329T010000
END:DAYLIGHT
BEGIN:STANDARD
TZOFFSETFROM:+0200
TZOFFSETTO:+0100
TZNAME:CET
DTSTART:20261025T010000
END:STANDARD
BEGIN:DAYLIGHT
TZOFFSETFROM:+0100
TZOFFSETTO:+0200
TZNAME:CEST
DTSTART:20270328T010000
END:DAYLIGHT
BEGIN:STANDARD
TZOFFSETFROM:+0200
TZOFFSETTO:+0100
TZNAME:CET
DTSTART:20271031T010000
END:STANDARD
BEGIN:DAYLIGHT
TZOFFSETFROM:+0100
TZOFFSETTO:+0200
TZNAME:CEST
DTSTART:20280326T010000
END:DAYLIGHT
BEGIN:STANDARD
TZOFFSETFROM:+0200
TZOFFSETTO:+0100
TZNAME:CET
DTSTART:20281029T010000
END:STANDARD
END:VTIMEZONE
BEGIN:VEVENT
DTSTART;TZID=Europe/Zurich:20260811T180000
DTEND;TZID=Europe/Zurich:20260811T210000
DTSTAMP:20260419T193548
CREATED:20260416T194208Z
LAST-MODIFIED:20260416T194208Z
UID:10000029-1786471200-1786482000@rvfu.ch
SUMMARY:Geländetraining in Trüllikon mit Fabienne Bachmann
DESCRIPTION:Ausschreibung folgt
URL:https://rvfu.ch/event/gelaendetraining-in-truellikon-mit-fabienne-bachmann/2026-08-11/
LOCATION:Trüllikon
END:VEVENT
BEGIN:VEVENT
DTSTART;TZID=Europe/Zurich:20260818T180000
DTEND;TZID=Europe/Zurich:20260818T210000
DTSTAMP:20260419T193548
CREATED:20260416T194208Z
LAST-MODIFIED:20260416T194208Z
UID:10000030-1787076000-1787086800@rvfu.ch
SUMMARY:Geländetraining in Trüllikon mit Fabienne Bachmann
DESCRIPTION:Ausschreibung folgt
URL:https://rvfu.ch/event/gelaendetraining-in-truellikon-mit-fabienne-bachmann/2026-08-18/
LOCATION:Trüllikon
END:VEVENT
BEGIN:VEVENT
DTSTART;TZID=Europe/Zurich:20260825T180000
DTEND;TZID=Europe/Zurich:20260825T210000
DTSTAMP:20260419T193548
CREATED:20260416T194208Z
LAST-MODIFIED:20260416T194208Z
UID:10000031-1787680800-1787691600@rvfu.ch
SUMMARY:Geländetraining in Trüllikon mit Fabienne Bachmann
DESCRIPTION:Ausschreibung folgt
URL:https://rvfu.ch/event/gelaendetraining-in-truellikon-mit-fabienne-bachmann/2026-08-25/
LOCATION:Trüllikon
END:VEVENT
BEGIN:VEVENT
DTSTART;TZID=Europe/Zurich:20260902T180000
DTEND;TZID=Europe/Zurich:20260902T210000
DTSTAMP:20260419T193548
CREATED:20260416T185445Z
LAST-MODIFIED:20260416T185445Z
UID:10000021-1788372000-1788382800@rvfu.ch
SUMMARY:Tempotraining auf der  Rennbahn Frauenfeld
DESCRIPTION:Ausschreibung folgt
URL:https://rvfu.ch/event/tempotraining-auf-der-rennbahn-frauenfeld/
LOCATION:Frauenfeld
END:VEVENT
BEGIN:VEVENT
DTSTART;TZID=Europe/Zurich:20270220T180000
DTEND;TZID=Europe/Zurich:20270220T220000
DTSTAMP:20260419T193548
CREATED:20260416T193414Z
LAST-MODIFIED:20260416T193414Z
UID:10000025-1803146400-1803160800@rvfu.ch
SUMMARY:Generalversammlung  RVFU 2027
DESCRIPTION:Ausschreibung folgt
URL:https://rvfu.ch/event/generalversammlung-rvfu-2027/
END:VEVENT
END:VCALENDAR