BEGIN:VCALENDAR
VERSION:2.0
PRODID:-//Reitverein Frauenfeld und Umgebung - ECPv6.15.18//NONSGML v1.0//EN
CALSCALE:GREGORIAN
METHOD:PUBLISH
X-WR-CALNAME:Reitverein Frauenfeld und Umgebung
X-ORIGINAL-URL:https://rvfu.ch
X-WR-CALDESC:Veranstaltungen für Reitverein Frauenfeld und Umgebung
REFRESH-INTERVAL;VALUE=DURATION:PT1H
X-Robots-Tag:noindex
X-PUBLISHED-TTL:PT1H
BEGIN:VTIMEZONE
TZID:Europe/Zurich
BEGIN:DAYLIGHT
TZOFFSETFROM:+0100
TZOFFSETTO:+0200
TZNAME:CEST
DTSTART:20240331T010000
END:DAYLIGHT
BEGIN:STANDARD
TZOFFSETFROM:+0200
TZOFFSETTO:+0100
TZNAME:CET
DTSTART:20241027T010000
END:STANDARD
BEGIN:DAYLIGHT
TZOFFSETFROM:+0100
TZOFFSETTO:+0200
TZNAME:CEST
DTSTART:20250330T010000
END:DAYLIGHT
BEGIN:STANDARD
TZOFFSETFROM:+0200
TZOFFSETTO:+0100
TZNAME:CET
DTSTART:20251026T010000
END:STANDARD
BEGIN:DAYLIGHT
TZOFFSETFROM:+0100
TZOFFSETTO:+0200
TZNAME:CEST
DTSTART:20260329T010000
END:DAYLIGHT
BEGIN:STANDARD
TZOFFSETFROM:+0200
TZOFFSETTO:+0100
TZNAME:CET
DTSTART:20261025T010000
END:STANDARD
END:VTIMEZONE
BEGIN:VEVENT
DTSTART;VALUE=DATE:20250405
DTEND;VALUE=DATE:20250407
DTSTAMP:20260422T072549
CREATED:20250222T124512Z
LAST-MODIFIED:20250222T125854Z
UID:10000004-1743811200-1743983999@rvfu.ch
SUMMARY:Military Festwirtschaft (mit Sabrina Huber)
DESCRIPTION:Ein geselliges Fest erwartet die Teilnehmenden\, bei dem neben kulinarischen Genüssen auch sportliche Aktivitäten im Rahmen einer festlichen Atmosphäre angeboten werden. Ein besonderes Highlight ist das Zusammenspiel von Tradition und Moderne.
URL:https://rvfu.ch/event/military-festwirtschaft-mit-sabrina-huber/
CATEGORIES:Vereinsintern
ORGANIZER;CN="Reitverein Frauenfeld und Umgebung":MAILTO:post@rv-frauenfeld.ch
END:VEVENT
END:VCALENDAR