BEGIN:VCALENDAR
VERSION:2.0
PRODID:-//Reitverein Frauenfeld und Umgebung - ECPv6.15.18//NONSGML v1.0//EN
CALSCALE:GREGORIAN
METHOD:PUBLISH
X-ORIGINAL-URL:https://rvfu.ch
X-WR-CALDESC:Veranstaltungen für Reitverein Frauenfeld und Umgebung
REFRESH-INTERVAL;VALUE=DURATION:PT1H
X-Robots-Tag:noindex
X-PUBLISHED-TTL:PT1H
BEGIN:VTIMEZONE
TZID:Europe/Zurich
BEGIN:DAYLIGHT
TZOFFSETFROM:+0100
TZOFFSETTO:+0200
TZNAME:CEST
DTSTART:20240331T010000
END:DAYLIGHT
BEGIN:STANDARD
TZOFFSETFROM:+0200
TZOFFSETTO:+0100
TZNAME:CET
DTSTART:20241027T010000
END:STANDARD
BEGIN:DAYLIGHT
TZOFFSETFROM:+0100
TZOFFSETTO:+0200
TZNAME:CEST
DTSTART:20250330T010000
END:DAYLIGHT
BEGIN:STANDARD
TZOFFSETFROM:+0200
TZOFFSETTO:+0100
TZNAME:CET
DTSTART:20251026T010000
END:STANDARD
BEGIN:DAYLIGHT
TZOFFSETFROM:+0100
TZOFFSETTO:+0200
TZNAME:CEST
DTSTART:20260329T010000
END:DAYLIGHT
BEGIN:STANDARD
TZOFFSETFROM:+0200
TZOFFSETTO:+0100
TZNAME:CET
DTSTART:20261025T010000
END:STANDARD
END:VTIMEZONE
BEGIN:VEVENT
DTSTART;TZID=Europe/Zurich:20250213T180000
DTEND;TZID=Europe/Zurich:20250213T210000
DTSTAMP:20260422T104637
CREATED:20250205T232105Z
LAST-MODIFIED:20250205T232105Z
UID:10000001-1739469600-1739480400@rvfu.ch
SUMMARY:Springkurs mit Urs Appert
DESCRIPTION:Verbessern Sie Ihre Sprungtechnik unter der Anleitung von Urs Appert! Der Kurs findet durchgehend am Donnerstagabend auf dem Springplatz Frauenfeld statt. Ideal für Reiterinnen und Reiter\, die ihre Fähigkeiten im Springreiten gezielt weiterentwickeln möchten.
URL:https://rvfu.ch/event/springkurs-mit-urs-appert/
LOCATION:Springplatz Frauenfeld\, Waffenplatzstrasse 27\, Frauenfeld\, Thurgau\, 8500\, Switzerland
CATEGORIES:Kurs
ORGANIZER;CN="Reitverein Frauenfeld und Umgebung":MAILTO:post@rv-frauenfeld.ch
END:VEVENT
END:VCALENDAR