BEGIN:VCALENDAR
VERSION:2.0
PRODID:-//Reitverein Frauenfeld und Umgebung - ECPv6.15.18//NONSGML v1.0//EN
CALSCALE:GREGORIAN
METHOD:PUBLISH
X-ORIGINAL-URL:https://rvfu.ch
X-WR-CALDESC:Veranstaltungen für Reitverein Frauenfeld und Umgebung
REFRESH-INTERVAL;VALUE=DURATION:PT1H
X-Robots-Tag:noindex
X-PUBLISHED-TTL:PT1H
BEGIN:VTIMEZONE
TZID:Europe/Zurich
BEGIN:DAYLIGHT
TZOFFSETFROM:+0100
TZOFFSETTO:+0200
TZNAME:CEST
DTSTART:20240331T010000
END:DAYLIGHT
BEGIN:STANDARD
TZOFFSETFROM:+0200
TZOFFSETTO:+0100
TZNAME:CET
DTSTART:20241027T010000
END:STANDARD
BEGIN:DAYLIGHT
TZOFFSETFROM:+0100
TZOFFSETTO:+0200
TZNAME:CEST
DTSTART:20250330T010000
END:DAYLIGHT
BEGIN:STANDARD
TZOFFSETFROM:+0200
TZOFFSETTO:+0100
TZNAME:CET
DTSTART:20251026T010000
END:STANDARD
BEGIN:DAYLIGHT
TZOFFSETFROM:+0100
TZOFFSETTO:+0200
TZNAME:CEST
DTSTART:20260329T010000
END:DAYLIGHT
BEGIN:STANDARD
TZOFFSETFROM:+0200
TZOFFSETTO:+0100
TZNAME:CET
DTSTART:20261025T010000
END:STANDARD
END:VTIMEZONE
BEGIN:VEVENT
DTSTART;TZID=Europe/Zurich:20250910T180000
DTEND;TZID=Europe/Zurich:20250910T210000
DTSTAMP:20260421T194257
CREATED:20250222T125041Z
LAST-MODIFIED:20250222T130025Z
UID:10000011-1757527200-1757538000@rvfu.ch
SUMMARY:Tempotraining (mit Sabrina Huber)
DESCRIPTION:Dieses Event fokussiert sich auf das Training von Tempo und Dynamik. Teilnehmende lernen\, wie sie ihre Geschwindigkeit und Präzision im Reitsport steigern können\, und erhalten praxisnahe Tipps von einer erfahrenen Trainerin.
URL:https://rvfu.ch/event/tempotraining-mit-sabrina-huber/
LOCATION:Springplatz Frauenfeld\, Waffenplatzstrasse 27\, Frauenfeld\, Thurgau\, 8500\, Switzerland
CATEGORIES:Kurs
ORGANIZER;CN="Reitverein Frauenfeld und Umgebung":MAILTO:post@rv-frauenfeld.ch
END:VEVENT
END:VCALENDAR