BEGIN:VCALENDAR
VERSION:2.0
PRODID:-//Reitverein Frauenfeld und Umgebung - ECPv6.15.18//NONSGML v1.0//EN
CALSCALE:GREGORIAN
METHOD:PUBLISH
X-WR-CALNAME:Reitverein Frauenfeld und Umgebung
X-ORIGINAL-URL:https://rvfu.ch
X-WR-CALDESC:Veranstaltungen für Reitverein Frauenfeld und Umgebung
REFRESH-INTERVAL;VALUE=DURATION:PT1H
X-Robots-Tag:noindex
X-PUBLISHED-TTL:PT1H
BEGIN:VTIMEZONE
TZID:Europe/Zurich
BEGIN:DAYLIGHT
TZOFFSETFROM:+0100
TZOFFSETTO:+0200
TZNAME:CEST
DTSTART:20240331T010000
END:DAYLIGHT
BEGIN:STANDARD
TZOFFSETFROM:+0200
TZOFFSETTO:+0100
TZNAME:CET
DTSTART:20241027T010000
END:STANDARD
BEGIN:DAYLIGHT
TZOFFSETFROM:+0100
TZOFFSETTO:+0200
TZNAME:CEST
DTSTART:20250330T010000
END:DAYLIGHT
BEGIN:STANDARD
TZOFFSETFROM:+0200
TZOFFSETTO:+0100
TZNAME:CET
DTSTART:20251026T010000
END:STANDARD
BEGIN:DAYLIGHT
TZOFFSETFROM:+0100
TZOFFSETTO:+0200
TZNAME:CEST
DTSTART:20260329T010000
END:DAYLIGHT
BEGIN:STANDARD
TZOFFSETFROM:+0200
TZOFFSETTO:+0100
TZNAME:CET
DTSTART:20261025T010000
END:STANDARD
END:VTIMEZONE
BEGIN:VEVENT
DTSTART;VALUE=DATE:20250605
DTEND;VALUE=DATE:20250606
DTSTAMP:20260422T040640
CREATED:20250222T124751Z
LAST-MODIFIED:20250511T205922Z
UID:10000007-1749081600-1749167999@rvfu.ch
SUMMARY:Trainingsspringen des RVFU an den Pferdesporttagen Frauenfeld
DESCRIPTION:Diese Prüfung findet als Training vor den Pferdesporttagen statt. Die Umgebung wird bereits vollständig eingerichtet sein. Ideal als Startmöglichkeit auch für junge Pferde. Start der Prüfung ist um 18.00 Uhr. Wir werden die Festwirtschaft in Betrieb nehmen und nach der Prüfung können wir noch gemütlich beisammen sein. \nRVFU_Ausschreibung Vereinsspringen
URL:https://rvfu.ch/event/vereinsspringen/
LOCATION:Springplatz Frauenfeld\, Waffenplatzstrasse 27\, Frauenfeld\, Thurgau\, 8500\, Switzerland
CATEGORIES:Concours,Vereinsintern
ORGANIZER;CN="Reitverein Frauenfeld und Umgebung":MAILTO:post@rv-frauenfeld.ch
END:VEVENT
END:VCALENDAR