BEGIN:VCALENDAR
VERSION:2.0
PRODID:-//Reitverein Frauenfeld und Umgebung - ECPv6.15.18//NONSGML v1.0//EN
CALSCALE:GREGORIAN
METHOD:PUBLISH
X-ORIGINAL-URL:https://rvfu.ch
X-WR-CALDESC:Veranstaltungen für Reitverein Frauenfeld und Umgebung
REFRESH-INTERVAL;VALUE=DURATION:PT1H
X-Robots-Tag:noindex
X-PUBLISHED-TTL:PT1H
BEGIN:VTIMEZONE
TZID:Europe/Zurich
BEGIN:DAYLIGHT
TZOFFSETFROM:+0100
TZOFFSETTO:+0200
TZNAME:CEST
DTSTART:20240331T010000
END:DAYLIGHT
BEGIN:STANDARD
TZOFFSETFROM:+0200
TZOFFSETTO:+0100
TZNAME:CET
DTSTART:20241027T010000
END:STANDARD
BEGIN:DAYLIGHT
TZOFFSETFROM:+0100
TZOFFSETTO:+0200
TZNAME:CEST
DTSTART:20250330T010000
END:DAYLIGHT
BEGIN:STANDARD
TZOFFSETFROM:+0200
TZOFFSETTO:+0100
TZNAME:CET
DTSTART:20251026T010000
END:STANDARD
BEGIN:DAYLIGHT
TZOFFSETFROM:+0100
TZOFFSETTO:+0200
TZNAME:CEST
DTSTART:20260329T010000
END:DAYLIGHT
BEGIN:STANDARD
TZOFFSETFROM:+0200
TZOFFSETTO:+0100
TZNAME:CET
DTSTART:20261025T010000
END:STANDARD
END:VTIMEZONE
BEGIN:VEVENT
DTSTART;TZID=Europe/Zurich:20250524T080000
DTEND;TZID=Europe/Zurich:20250524T170000
DTSTAMP:20260422T072808
CREATED:20250426T080646Z
LAST-MODIFIED:20250426T080646Z
UID:10000018-1748073600-1748106000@rvfu.ch
SUMMARY:Wie wird mein Pferd cooler und mutiger? Kurs mit Anna Sell
DESCRIPTION:Dieser Kurs richtet sich an alle Reiter*innen und Pferde – unabhängig von Reitweise\, Ausbildungsstand oder Vorerfahrung. Im Zentrum steht die Partnerschaft zwischen Mensch und Pferd\, basierend auf Vertrauen\, Kommunikation und gegenseitigem Respekt.\n\nAnna Sell arbeitet nach den Prinzipien des Parelli Natural Horsemanship und bieten eine vielseitige Mischung an Themen\, die sowohl auf dem Boden als auch im Sattel Anwendung finden:\n\nDem Pferd helfen\, cooler und mutiger zu werden – mit Bodenarbeit\nKreativität am Boden entdecken und fördern\nLiberty: Kommunikation ganz ohne Halfter und Seil\nReiten ohne Zügelkontakt – und warum das so wichtig ist\nDem Pferd helfen\, auch im Sattel entspannter und mutiger zu werden\n\n\nZiel des Kurses ist es\, die Beziehung zum eigenen Pferd zu vertiefen\, feiner zu kommunizieren und gemeinsam an Vertrauen\, Gelassenheit und Leichtigkeit zu arbeiten – alles mit Freude\, Herz und Respekt.\n\nEgal ob du gerade erst beginnst oder schon Erfahrungen mitbringst – du und dein Pferd seid herzlich willkommen!\n\nAusschreibung
URL:https://rvfu.ch/event/wie-wird-mein-pferd-cooler-und-mutiger-kurs-mit-anna-sell/
LOCATION:Springplatz Frauenfeld\, Waffenplatzstrasse 27\, Frauenfeld\, Thurgau\, 8500\, Switzerland
CATEGORIES:Kurs
ATTACH;FMTTYPE=image/jpeg:https://rvfu.ch/wp-content/uploads/2025/04/WhatsApp-Image-2025-04-23-at-23.50.14.jpeg
ORGANIZER;CN="Reitverein Frauenfeld und Umgebung":MAILTO:post@rv-frauenfeld.ch
END:VEVENT
END:VCALENDAR